BEGIN:VCALENDAR
VERSION:2.0
PRODID:-//Athletic Club Phocéen Marseille - ECPv6.15.20//NONSGML v1.0//EN
CALSCALE:GREGORIAN
METHOD:PUBLISH
X-WR-CALNAME:Athletic Club Phocéen Marseille
X-ORIGINAL-URL:https://athleticclubphoceenmarseille.fr
X-WR-CALDESC:Évènements pour Athletic Club Phocéen Marseille
REFRESH-INTERVAL;VALUE=DURATION:PT1H
X-Robots-Tag:noindex
X-PUBLISHED-TTL:PT1H
BEGIN:VTIMEZONE
TZID:Europe/Paris
BEGIN:DAYLIGHT
TZOFFSETFROM:+0100
TZOFFSETTO:+0200
TZNAME:CEST
DTSTART:20240331T010000
END:DAYLIGHT
BEGIN:STANDARD
TZOFFSETFROM:+0200
TZOFFSETTO:+0100
TZNAME:CET
DTSTART:20241027T010000
END:STANDARD
BEGIN:DAYLIGHT
TZOFFSETFROM:+0100
TZOFFSETTO:+0200
TZNAME:CEST
DTSTART:20250330T010000
END:DAYLIGHT
BEGIN:STANDARD
TZOFFSETFROM:+0200
TZOFFSETTO:+0100
TZNAME:CET
DTSTART:20251026T010000
END:STANDARD
BEGIN:DAYLIGHT
TZOFFSETFROM:+0100
TZOFFSETTO:+0200
TZNAME:CEST
DTSTART:20260329T010000
END:DAYLIGHT
BEGIN:STANDARD
TZOFFSETFROM:+0200
TZOFFSETTO:+0100
TZNAME:CET
DTSTART:20261025T010000
END:STANDARD
END:VTIMEZONE
BEGIN:VEVENT
DTSTART;TZID=Europe/Paris:20251122T090000
DTEND;TZID=Europe/Paris:20251122T130000
DTSTAMP:20260421T113551
CREATED:20251006T080045Z
LAST-MODIFIED:20251117T123701Z
UID:4366-1763802000-1763816400@athleticclubphoceenmarseille.fr
SUMMARY:EA à MI (6 à 14 ans) - Cross FFA - SC MARIGNANE
DESCRIPTION:CROSS FFA du SC MARIGNANAIS\, pour les Eveils à Minimes au Parc des sports du Bolmon . \nMerci d’inscrire le ou les athlètes ici en mentionnant le NOM\, le(s) PRENOM(S)\, et l’adresse e-mail dans le formulaire. \nVous recevrez une confirmation et une convocation par mail (éveils à minimes) quelques jours avant l’événement.\nProgramme ci-dessous
URL:https://athleticclubphoceenmarseille.fr/event/cross-ffa-eveils-a-minimes-sc-marignane-2
CATEGORIES:Competitions,Ecole d'athlétisme,Pole Jeunes
END:VEVENT
END:VCALENDAR