BEGIN:VCALENDAR
VERSION:2.0
PRODID:-//Athletic Club Phocéen Marseille - ECPv6.15.20//NONSGML v1.0//EN
CALSCALE:GREGORIAN
METHOD:PUBLISH
X-WR-CALNAME:Athletic Club Phocéen Marseille
X-ORIGINAL-URL:https://athleticclubphoceenmarseille.fr
X-WR-CALDESC:Évènements pour Athletic Club Phocéen Marseille
REFRESH-INTERVAL;VALUE=DURATION:PT1H
X-Robots-Tag:noindex
X-PUBLISHED-TTL:PT1H
BEGIN:VTIMEZONE
TZID:Europe/Paris
BEGIN:DAYLIGHT
TZOFFSETFROM:+0100
TZOFFSETTO:+0200
TZNAME:CEST
DTSTART:20230326T010000
END:DAYLIGHT
BEGIN:STANDARD
TZOFFSETFROM:+0200
TZOFFSETTO:+0100
TZNAME:CET
DTSTART:20231029T010000
END:STANDARD
BEGIN:DAYLIGHT
TZOFFSETFROM:+0100
TZOFFSETTO:+0200
TZNAME:CEST
DTSTART:20240331T010000
END:DAYLIGHT
BEGIN:STANDARD
TZOFFSETFROM:+0200
TZOFFSETTO:+0100
TZNAME:CET
DTSTART:20241027T010000
END:STANDARD
BEGIN:DAYLIGHT
TZOFFSETFROM:+0100
TZOFFSETTO:+0200
TZNAME:CEST
DTSTART:20250330T010000
END:DAYLIGHT
BEGIN:STANDARD
TZOFFSETFROM:+0200
TZOFFSETTO:+0100
TZNAME:CET
DTSTART:20251026T010000
END:STANDARD
END:VTIMEZONE
BEGIN:VEVENT
DTSTART;TZID=Europe/Paris:20240926T180000
DTEND;TZID=Europe/Paris:20240926T200000
DTSTAMP:20260423T155306
CREATED:20230613T102824Z
LAST-MODIFIED:20240906T114507Z
UID:808-1727373600-1727380800@athleticclubphoceenmarseille.fr
SUMMARY:RUN 2K Challenge FFA et soirée piste FSGT (800 & 5000m) avec l'ACP
DESCRIPTION:Débutant course à pied ou habitué souhaitant se challenger ? \nRejoignez-nous le jeudi 26 septembre prochain pour le Run 2K Challenge\, challenge FFA sur 2000m (5 tours de piste) ouvert et accessible à tous. Il a lieu à la rentrée de septembre pour encourager les gens à une pratique sportive régulière et à la rencontre des clubs d’athlétisme avec les usagers. Un format de 2km accessible à tous les niveaux\, un premier défi sportif pour se tester\, la possibilité d’échanger avec les entraîneurs et jeu concours étaient au programme de cette journée gratuite. \nCoureur licencié à la FSGT ?\nParticiper au challenge des soirées pistes du département en prenant part au 800 ou au 5000m organisé dans la soirée. \nOn vous donne rendez-vous à partir de 18h au stade Roger Couderc !
URL:https://athleticclubphoceenmarseille.fr/event/run-2k-challenge-ffa-avec-lacp
CATEGORIES:Athlé Running,Ecole d'athlétisme,Evènements externes,Pole jeunes
ATTACH;FMTTYPE=image/png:https://athleticclubphoceenmarseille.fr/wp-content/uploads/2023/06/PUBLICATIONS-FB-3.png
END:VEVENT
END:VCALENDAR